BEGIN:VCALENDAR
VERSION:2.0
PRODID:-//Chopping &amp; Associates - ECPv6.15.13.1//NONSGML v1.0//EN
CALSCALE:GREGORIAN
METHOD:PUBLISH
X-WR-CALNAME:Chopping &amp; Associates
X-ORIGINAL-URL:https://chopping.co.nz
X-WR-CALDESC:Events for Chopping &amp; Associates
REFRESH-INTERVAL;VALUE=DURATION:PT1H
X-Robots-Tag:noindex
X-PUBLISHED-TTL:PT1H
BEGIN:VTIMEZONE
TZID:Pacific/Auckland
BEGIN:STANDARD
TZOFFSETFROM:+1300
TZOFFSETTO:+1200
TZNAME:NZST
DTSTART:20250405T140000
END:STANDARD
BEGIN:DAYLIGHT
TZOFFSETFROM:+1200
TZOFFSETTO:+1300
TZNAME:NZDT
DTSTART:20250927T140000
END:DAYLIGHT
BEGIN:STANDARD
TZOFFSETFROM:+1300
TZOFFSETTO:+1200
TZNAME:NZST
DTSTART:20260404T140000
END:STANDARD
BEGIN:DAYLIGHT
TZOFFSETFROM:+1200
TZOFFSETTO:+1300
TZNAME:NZDT
DTSTART:20260926T140000
END:DAYLIGHT
BEGIN:STANDARD
TZOFFSETFROM:+1300
TZOFFSETTO:+1200
TZNAME:NZST
DTSTART:20270403T140000
END:STANDARD
BEGIN:DAYLIGHT
TZOFFSETFROM:+1200
TZOFFSETTO:+1300
TZNAME:NZDT
DTSTART:20270925T140000
END:DAYLIGHT
END:VTIMEZONE
BEGIN:VEVENT
DTSTART;TZID=Pacific/Auckland:20260429T120000
DTEND;TZID=Pacific/Auckland:20260429T170000
DTSTAMP:20260425T004622
CREATED:20251216T040947Z
LAST-MODIFIED:20251216T040947Z
UID:10000136-1777464000-1777482000@chopping.co.nz
SUMMARY:CTC 2612
DESCRIPTION:ELECTRICAL WORKERS COMPETENCY COURSE INCLUDING FIRST AID AND CPR
URL:https://chopping.co.nz/event/ctc-2612/
LOCATION:Ellerslie Masonic Centre\, 9a Robert St\, Ellerslie\, Auckland\, New Zealand
ORGANIZER;CN="Chopping & Associates":MAILTO:mac@chopping.co.nz
END:VEVENT
END:VCALENDAR