BEGIN:VCALENDAR
VERSION:2.0
PRODID:-// - ECPv4.6.9//NONSGML v1.0//EN
CALSCALE:GREGORIAN
METHOD:PUBLISH
X-WR-CALNAME:
X-ORIGINAL-URL:http://www.chopping.co.nz
X-WR-CALDESC:Events for 
BEGIN:VEVENT
DTSTART;TZID=UTC+0:20160510T130000
DTEND;TZID=UTC+0:20160510T170000
DTSTAMP:20180124T132302
CREATED:20170113T000727Z
LAST-MODIFIED:20170113T000727Z
UID:398-1462885200-1462899600@www.chopping.co.nz
SUMMARY:Electrical Workers CTC - 1708
DESCRIPTION:Electrical Workers Safety Refresher Course  Our courses have always met the Legislation Requirements and therefore meet the current requirements proposed by the EWRB for Practising Licence Renewal. \nThis covers the 2011 Electricity Safety Regulations and require that you attend a refresher course every two years to qualify for a Practising Licence. \nNOTE:\nIt is now necessary that you complete the EWRB online assessment prior to attending your competency training. Please go online with your I Govt. Login and complete the assessment and bring the printed slip to your next course” \nCourses attended now are valid for 24 months. \nIf we are not running a course in your area at a time which is suitable for you or your organisation\, we will consider putting on a special course for you if you can arrange sufficient numbers (10 minimum) to attend. We also run in-house courses (we will come to your company premises). \nAll courses include instruction on: \n\nSafe Working Practices\nTesting to Ensure Safety\n Basic First Aid\n Cardio Pulmonary Resuscitation\n\nCourses are currently four hours and include a tea coffee and a biscuit during a short break. A certificate will be issued\, following satisfactory completion of the course. Please bring your Registration Number to the course. \n  \nCost: $140.00 including GST (per person) Payment required via Direct Credit at time of booking to confirm your attendance.\n \nDirect Credit to Account: 030 259 0122787  00\n(No Exceptions. Refunds incur a booking fee.) \nVenue: Ellerslie Masonic Centre – 9A Robert Street – Ellerslie\n(Racecourse off ramp off Southern Motorway which leads straight to Robert Street). \nTime: 1.00 pm to 5 :00pm or 5:30pm to 9:30pm\n&#8211; Courses usually conducted on Wednesday but this is flexible.\n&#8211; Competency assessment now part of these courses. \n\nClick here to book for this course\n
URL:http://www.chopping.co.nz/event/electrical-workers-ctc-1708/
LOCATION:9a Robert St\, Ellerslie\, Auckland\, New Zealand
CATEGORIES:Training Course
ORGANIZER;CN="M%20A%20Chopping%20Ltd":MAILTO:mac@chopping.co.nz
END:VEVENT
END:VCALENDAR